BEGIN:VCALENDAR
VERSION:2.0
PRODID:-//Educa-T - ECPv6.0.13.1//NONSGML v1.0//EN
CALSCALE:GREGORIAN
METHOD:PUBLISH
X-ORIGINAL-URL:https://educa-t.hr/en
X-WR-CALDESC:Events for Educa-T
REFRESH-INTERVAL;VALUE=DURATION:PT1H
X-Robots-Tag:noindex
X-PUBLISHED-TTL:PT1H
BEGIN:VTIMEZONE
TZID:Europe/Zagreb
BEGIN:DAYLIGHT
TZOFFSETFROM:+0100
TZOFFSETTO:+0200
TZNAME:CEST
DTSTART:20170326T010000
END:DAYLIGHT
BEGIN:STANDARD
TZOFFSETFROM:+0200
TZOFFSETTO:+0100
TZNAME:CET
DTSTART:20171029T010000
END:STANDARD
END:VTIMEZONE
BEGIN:VEVENT
DTSTART;VALUE=DATE:20170511
DTEND;VALUE=DATE:20170513
DTSTAMP:20260420T230510
CREATED:20170323T100126Z
LAST-MODIFIED:20170424T134400Z
UID:1874-1494464400-1494550799@educa-t.hr
SUMMARY:Peer Learning Activity (PLA) on assessment of learning outcomes and educating the educators
DESCRIPTION:[vc_row][vc_column][vc_column_text]The Ministry of Science and Education of the Republic of Croatia is implementing a project “Emphasis on developing and upgrading of competences for academic teaching (Educa-T)”\, which is co-funded by the Erasmus+ Programme – Key Action KA3 – Support to the implementation of EHEA reforms. \nThe Educa-T project is focused on improving the quality of teaching and learning in Croatian higher education. The project activities are designed to have an impact on academics\, higher education institutions and national higher education policies. The project will provide opportunities for raising awareness about the importance of high quality teaching and learning in higher education and for exchanging views and best practices at national and international levels. \nThe Ministry is preparing a PLA on two topics: assessment of learning outcomes and educating the educators. The PLA will take place on 11 and 12 May 2017 in Rijeka (Croatia)\, on the premises of the Faculty of Humanities and Social Sciences\, University of Rijeka. \nThere is no participation fee for the PLA but there is a limited number of places. Participants will need to cover their own travel and accommodation costs. Refreshments and lunch will be provided by the organiser.[/vc_column_text][/vc_column][/vc_row][vc_row disable_element=”yes”][vc_column width=”1/6″ css=”.vc_custom_1490007405265{border-radius: 1px !important;}”][/vc_column][vc_column width=”2/3″]\n\n  \n\n\n\n\n\n\n\n\n\n\n	Participant's data:\n	\n	\n		\n		 \n		\n		 \n		\n		 \n		\n		 \n	\n	\n		\n		 \n		\n		 \n		MaleFemale\n		 \n	\n	Information on the institution:\n	\n	\n		\n		 \n		\n		 \n	\n	\n		\n		 \n	\n	\n		All fields are required\n		 \n	\n\n\n	[recaptcha]
URL:https://educa-t.hr/en/event/peer-learning-activity-pla-on-assessment-of-learning-outcomes-and-educating-the-educators/
LOCATION:Rijeka\, Hrvatska
END:VEVENT
END:VCALENDAR