BEGIN:VCALENDAR
VERSION:2.0
PRODID:-//Educa-T - ECPv6.0.13.1//NONSGML v1.0//EN
CALSCALE:GREGORIAN
METHOD:PUBLISH
X-WR-CALNAME:Educa-T
X-ORIGINAL-URL:https://educa-t.hr
X-WR-CALDESC:Events for Educa-T
REFRESH-INTERVAL;VALUE=DURATION:PT1H
X-Robots-Tag:noindex
X-PUBLISHED-TTL:PT1H
BEGIN:VTIMEZONE
TZID:Europe/Zagreb
BEGIN:DAYLIGHT
TZOFFSETFROM:+0100
TZOFFSETTO:+0200
TZNAME:CEST
DTSTART:20160327T010000
END:DAYLIGHT
BEGIN:STANDARD
TZOFFSETFROM:+0200
TZOFFSETTO:+0100
TZNAME:CET
DTSTART:20161030T010000
END:STANDARD
BEGIN:DAYLIGHT
TZOFFSETFROM:+0100
TZOFFSETTO:+0200
TZNAME:CEST
DTSTART:20170326T010000
END:DAYLIGHT
BEGIN:STANDARD
TZOFFSETFROM:+0200
TZOFFSETTO:+0100
TZNAME:CET
DTSTART:20171029T010000
END:STANDARD
END:VTIMEZONE
BEGIN:VEVENT
DTSTART;VALUE=DATE:20170511
DTEND;VALUE=DATE:20170513
DTSTAMP:20260421T074815
CREATED:20170320T105312Z
LAST-MODIFIED:20170424T122453Z
UID:1728-1494464400-1494550799@educa-t.hr
SUMMARY:Seminar na temu vrednovanja ishoda učenja i edukacije edukatora
DESCRIPTION:[vc_row][vc_column][vc_column_text]Ministarstvo znanosti i obrazovanja nastavlja s organizacijom aktivnosti u sklopu projekta Educa-T\, (Educa-T\, Emphasis on developing and upgrading of competences for academic teaching)\, “Razvijanje i unaprjeđivanje kompetencija za poučavanje na visokim učilištima”. Nakon uvodne konferencije projekta i radionice na temu priznavanja prethodnog učenja u visokom obrazovanju i e-učenja\, sljedeća aktivnost je organizacija seminara na temu vrednovanja ishoda učenja i edukacije edukatora. \nOrganizator seminara je Ministarstvo znanosti i obrazovanja\, a održat će se 11. i 12. svibnja 2017. godine na Filozofskome fakultetu Sveučilišta u Rijeci\, Sveučilišna avenija 4\, Rijeka. \nSeminar će biti prilika za razmjenu iskustava i dobre prakse između predstavnika hrvatskih visokih učilišta i međunarodnih stručnjaka. Ministarstvo je pozvalo nekoliko stranih stručnjaka koji će s hrvatskim stručnjacima podijeliti primjere dobre prakse na području vrednovanja ishoda učenja i edukacije edukatora. Radni jezik seminara bit će engleski. Osvježenje i ručak za sudionike bit će osigurani iz sredstava projekta Educa-T\, ali sudionici trebaju sami snositi troškove puta i smještaja. Broj sudionika je ograničen i dat ćemo prednost sudionicima koji se jave prvi. Prijavljeni sudionici bit će na vrijeme obaviješteni o dnevnome redu seminara. \nSlijedom navedenoga\, ovime vas pozivamo da se prijavite za sudjelovanje putem obrasca ispod\, te da informaciju o seminaru proslijedite svim zainteresiranim suradnicima i kolegama. \nU slučaju potrebe za dodatnim informacijama ili objašnjenjima možete se obratiti na adresu elektroničke pošte: educa-t.projekt@mzo.hr.[/vc_column_text][/vc_column][/vc_row][vc_row disable_element=”yes”][vc_column width=”1/6″ css=”.vc_custom_1490007405265{border-radius: 1px !important;}”][/vc_column][vc_column width=”2/3″]\n\n  \n\n\n\n\n\n\n\n\n\n\n	Podaci o sudioniku:\n	\n	\n		\n		 \n		\n		 \n		\n		 \n		\n		 \n	\n	\n		\n		 \n		\n		 \n		muškožensko\n		 \n	\n	Podaci o instituciji:\n	\n	\n		\n		 \n		\n		 \n	\n	\n		\n		 \n	\n	\n		Sva polja su obavezna\n		 \n	\n\n\n	[recaptcha]
URL:https://educa-t.hr/najava/seminar-na-temu-vrednovanja-ishoda-ucenja-i-edukaciju-edukatora/
LOCATION:Rijeka\, Hrvatska
END:VEVENT
BEGIN:VEVENT
DTSTART;VALUE=DATE:20170228
DTEND;VALUE=DATE:20170301
DTSTAMP:20260421T074815
CREATED:20170222T104210Z
LAST-MODIFIED:20170222T104212Z
UID:1677-1488240000-1488326399@educa-t.hr
SUMMARY:Drugi  sastanak i radionica Radne skupine
DESCRIPTION:Drugi  sastanak i radionica Radne skupine za izradu preporuka o kvalitetnom poučavanju i učenju u hrvatskom visokom obrazovanju i nacionalnog profila kompetencija te okvirnog kurikuluma za poboljšanje kompetencija nastavnika u visokom obrazovanju održat će se 28. veljače 2017. godine s početkom u 10.00 sati u prostoru Ministarstva znanosti i obrazovanja Republike Hrvatske.
URL:https://educa-t.hr/najava/drugi-sastanak-i-radionica-radne-skupine/
LOCATION:Ministarstvo znanosti i obrazovanja\, Donje Svetice 38\, Zagreb\, 10000\, Hrvatska
END:VEVENT
BEGIN:VEVENT
DTSTART;VALUE=DATE:20160922
DTEND;VALUE=DATE:20160925
DTSTAMP:20260421T074815
CREATED:20170217T093539Z
LAST-MODIFIED:20170217T094214Z
UID:1620-1474506000-1474678799@educa-t.hr
SUMMARY:Uvodna konferencija projekta Educa-T
DESCRIPTION:Ministarstvo znanosti\, obrazovanja i sporta Republike Hrvatske organizira uvodnu konferenciju projekta Educa-T\, koja će se održati 22. i 23. rujna 2016. godine u Ministarstvu. \nProjekt Educa-T (Emphasis on developing and upgrading of competences for academic teaching)\, “Razvijanje i unapređivanje kompetencija za poučavanje na visokim učilištima” usmjeren je na unapređivanje kvalitete učenja i poučavanja u visokom obrazovanju. Projekt će biti usredotočen na osnaživanje uloge poučavanja sveučilišnih nastavnika\, posebice u svjetlu promjena kojima su cilj ishodi učenja i pristup koji stavlja studenta u središte. \nSažetak konferencije na engleskome jeziku možete vidjeti ovdje* (Educa-T Conference Concept Note) \nDodatne informacije o konferenciji možete dobiti na navedene kontakte: \nvlatka.blazevic@mzos.hr\nivana.ramic@mzos.hr.
URL:https://educa-t.hr/najava/uvodna-konferencija-projekta-educa-t/
LOCATION:Ministarstvo znanosti i obrazovanja\, Donje Svetice 38\, Zagreb\, 10000\, Hrvatska
END:VEVENT
END:VCALENDAR